BEGIN:VCALENDAR
VERSION:2.0
PRODID:-//Eastside Presbyterian Church - ECPv6.15.20//NONSGML v1.0//EN
CALSCALE:GREGORIAN
METHOD:PUBLISH
X-WR-CALNAME:Eastside Presbyterian Church
X-ORIGINAL-URL:https://eastsidepres.com
X-WR-CALDESC:Events for Eastside Presbyterian Church
REFRESH-INTERVAL;VALUE=DURATION:PT1H
X-Robots-Tag:noindex
X-PUBLISHED-TTL:PT1H
BEGIN:VTIMEZONE
TZID:UTC
BEGIN:STANDARD
TZOFFSETFROM:+0000
TZOFFSETTO:+0000
TZNAME:UTC
DTSTART:20250101T000000
END:STANDARD
END:VTIMEZONE
BEGIN:VEVENT
DTSTART;TZID=UTC:20260423T183000
DTEND;TZID=UTC:20260423T193000
DTSTAMP:20260423T122558
CREATED:20250326T145204Z
LAST-MODIFIED:20250326T145204Z
UID:10001216-1776969000-1776972600@eastsidepres.com
SUMMARY:Pickleball
DESCRIPTION:Our Pickle Ball group meets most Tuesday & Thursday nights\, at 6:30 PM in the church gym\, unless there is a holiday or conflicting church event. Anyone is welcome\, first-time or seasoned players. This is a great opportunity to invite neighbors or friends. Contact Grant Specia for more details\, gspecia@gmail.com.
URL:https://eastsidepres.com/events/pickleball/2026-04-23/
LOCATION:EPC Gym\, 830 Garlington Road\, Greenville\, SC\, 29615\, United States
CATEGORIES:All Church,Community
ATTACH;FMTTYPE=image/jpeg:https://eastsidepres.com/wp-content/uploads/2023/07/Pickleball-scaled.jpg
END:VEVENT
BEGIN:VEVENT
DTSTART;TZID=UTC:20260428T090000
DTEND;TZID=UTC:20260428T100000
DTSTAMP:20260423T122558
CREATED:20240814T134329Z
LAST-MODIFIED:20240821T135852Z
UID:10000652-1777366800-1777370400@eastsidepres.com
SUMMARY:Men's Bible Study
DESCRIPTION:Join us every Tuesday morning\, from 9 – 10 AM! This study is led by Mark Auffarth and initially\, we will be looking at the gospel through the lens of the book entitled: Gospel Transformation.
URL:https://eastsidepres.com/events/mens-bible-study/2026-04-28/
LOCATION:EPC Coffee Room\, 830 Garlington Road\, Greenville\, SC\, 29615\, United States
CATEGORIES:Men's Ministry
ATTACH;FMTTYPE=image/jpeg:https://eastsidepres.com/wp-content/uploads/2023/08/Monday-Night-Live.jpg
END:VEVENT
BEGIN:VEVENT
DTSTART;TZID=UTC:20260428T183000
DTEND;TZID=UTC:20260428T193000
DTSTAMP:20260423T122558
CREATED:20250326T145204Z
LAST-MODIFIED:20250326T145204Z
UID:10000959-1777401000-1777404600@eastsidepres.com
SUMMARY:Pickleball
DESCRIPTION:Our Pickle Ball group meets most Tuesday & Thursday nights\, at 6:30 PM in the church gym\, unless there is a holiday or conflicting church event. Anyone is welcome\, first-time or seasoned players. This is a great opportunity to invite neighbors or friends. Contact Grant Specia for more details\, gspecia@gmail.com.
URL:https://eastsidepres.com/events/pickleball/2026-04-28/
LOCATION:EPC Gym\, 830 Garlington Road\, Greenville\, SC\, 29615\, United States
CATEGORIES:All Church,Community
ATTACH;FMTTYPE=image/jpeg:https://eastsidepres.com/wp-content/uploads/2023/07/Pickleball-scaled.jpg
END:VEVENT
BEGIN:VEVENT
DTSTART;TZID=UTC:20260430T183000
DTEND;TZID=UTC:20260430T193000
DTSTAMP:20260423T122558
CREATED:20250326T145204Z
LAST-MODIFIED:20250326T145204Z
UID:10001217-1777573800-1777577400@eastsidepres.com
SUMMARY:Pickleball
DESCRIPTION:Our Pickle Ball group meets most Tuesday & Thursday nights\, at 6:30 PM in the church gym\, unless there is a holiday or conflicting church event. Anyone is welcome\, first-time or seasoned players. This is a great opportunity to invite neighbors or friends. Contact Grant Specia for more details\, gspecia@gmail.com.
URL:https://eastsidepres.com/events/pickleball/2026-04-30/
LOCATION:EPC Gym\, 830 Garlington Road\, Greenville\, SC\, 29615\, United States
CATEGORIES:All Church,Community
ATTACH;FMTTYPE=image/jpeg:https://eastsidepres.com/wp-content/uploads/2023/07/Pickleball-scaled.jpg
END:VEVENT
BEGIN:VEVENT
DTSTART;TZID=UTC:20260505T090000
DTEND;TZID=UTC:20260505T100000
DTSTAMP:20260423T122558
CREATED:20240814T134329Z
LAST-MODIFIED:20240821T135852Z
UID:10000653-1777971600-1777975200@eastsidepres.com
SUMMARY:Men's Bible Study
DESCRIPTION:Join us every Tuesday morning\, from 9 – 10 AM! This study is led by Mark Auffarth and initially\, we will be looking at the gospel through the lens of the book entitled: Gospel Transformation.
URL:https://eastsidepres.com/events/mens-bible-study/2026-05-05/
LOCATION:EPC Coffee Room\, 830 Garlington Road\, Greenville\, SC\, 29615\, United States
CATEGORIES:Men's Ministry
ATTACH;FMTTYPE=image/jpeg:https://eastsidepres.com/wp-content/uploads/2023/08/Monday-Night-Live.jpg
END:VEVENT
BEGIN:VEVENT
DTSTART;TZID=UTC:20260505T183000
DTEND;TZID=UTC:20260505T193000
DTSTAMP:20260423T122558
CREATED:20250326T145204Z
LAST-MODIFIED:20250326T145204Z
UID:10000960-1778005800-1778009400@eastsidepres.com
SUMMARY:Pickleball
DESCRIPTION:Our Pickle Ball group meets most Tuesday & Thursday nights\, at 6:30 PM in the church gym\, unless there is a holiday or conflicting church event. Anyone is welcome\, first-time or seasoned players. This is a great opportunity to invite neighbors or friends. Contact Grant Specia for more details\, gspecia@gmail.com.
URL:https://eastsidepres.com/events/pickleball/2026-05-05/
LOCATION:EPC Gym\, 830 Garlington Road\, Greenville\, SC\, 29615\, United States
CATEGORIES:All Church,Community
ATTACH;FMTTYPE=image/jpeg:https://eastsidepres.com/wp-content/uploads/2023/07/Pickleball-scaled.jpg
END:VEVENT
BEGIN:VEVENT
DTSTART;TZID=UTC:20260507T183000
DTEND;TZID=UTC:20260507T193000
DTSTAMP:20260423T122558
CREATED:20250326T145204Z
LAST-MODIFIED:20250326T145204Z
UID:10001218-1778178600-1778182200@eastsidepres.com
SUMMARY:Pickleball
DESCRIPTION:Our Pickle Ball group meets most Tuesday & Thursday nights\, at 6:30 PM in the church gym\, unless there is a holiday or conflicting church event. Anyone is welcome\, first-time or seasoned players. This is a great opportunity to invite neighbors or friends. Contact Grant Specia for more details\, gspecia@gmail.com.
URL:https://eastsidepres.com/events/pickleball/2026-05-07/
LOCATION:EPC Gym\, 830 Garlington Road\, Greenville\, SC\, 29615\, United States
CATEGORIES:All Church,Community
ATTACH;FMTTYPE=image/jpeg:https://eastsidepres.com/wp-content/uploads/2023/07/Pickleball-scaled.jpg
END:VEVENT
BEGIN:VEVENT
DTSTART;TZID=UTC:20260512T090000
DTEND;TZID=UTC:20260512T100000
DTSTAMP:20260423T122558
CREATED:20240814T134329Z
LAST-MODIFIED:20240821T135852Z
UID:10000654-1778576400-1778580000@eastsidepres.com
SUMMARY:Men's Bible Study
DESCRIPTION:Join us every Tuesday morning\, from 9 – 10 AM! This study is led by Mark Auffarth and initially\, we will be looking at the gospel through the lens of the book entitled: Gospel Transformation.
URL:https://eastsidepres.com/events/mens-bible-study/2026-05-12/
LOCATION:EPC Coffee Room\, 830 Garlington Road\, Greenville\, SC\, 29615\, United States
CATEGORIES:Men's Ministry
ATTACH;FMTTYPE=image/jpeg:https://eastsidepres.com/wp-content/uploads/2023/08/Monday-Night-Live.jpg
END:VEVENT
BEGIN:VEVENT
DTSTART;TZID=UTC:20260512T183000
DTEND;TZID=UTC:20260512T193000
DTSTAMP:20260423T122558
CREATED:20250326T145204Z
LAST-MODIFIED:20250326T145204Z
UID:10000961-1778610600-1778614200@eastsidepres.com
SUMMARY:Pickleball
DESCRIPTION:Our Pickle Ball group meets most Tuesday & Thursday nights\, at 6:30 PM in the church gym\, unless there is a holiday or conflicting church event. Anyone is welcome\, first-time or seasoned players. This is a great opportunity to invite neighbors or friends. Contact Grant Specia for more details\, gspecia@gmail.com.
URL:https://eastsidepres.com/events/pickleball/2026-05-12/
LOCATION:EPC Gym\, 830 Garlington Road\, Greenville\, SC\, 29615\, United States
CATEGORIES:All Church,Community
ATTACH;FMTTYPE=image/jpeg:https://eastsidepres.com/wp-content/uploads/2023/07/Pickleball-scaled.jpg
END:VEVENT
BEGIN:VEVENT
DTSTART;TZID=UTC:20260514T183000
DTEND;TZID=UTC:20260514T193000
DTSTAMP:20260423T122558
CREATED:20250326T145204Z
LAST-MODIFIED:20250326T145204Z
UID:10001219-1778783400-1778787000@eastsidepres.com
SUMMARY:Pickleball
DESCRIPTION:Our Pickle Ball group meets most Tuesday & Thursday nights\, at 6:30 PM in the church gym\, unless there is a holiday or conflicting church event. Anyone is welcome\, first-time or seasoned players. This is a great opportunity to invite neighbors or friends. Contact Grant Specia for more details\, gspecia@gmail.com.
URL:https://eastsidepres.com/events/pickleball/2026-05-14/
LOCATION:EPC Gym\, 830 Garlington Road\, Greenville\, SC\, 29615\, United States
CATEGORIES:All Church,Community
ATTACH;FMTTYPE=image/jpeg:https://eastsidepres.com/wp-content/uploads/2023/07/Pickleball-scaled.jpg
END:VEVENT
BEGIN:VEVENT
DTSTART;TZID=UTC:20260519T090000
DTEND;TZID=UTC:20260519T100000
DTSTAMP:20260423T122558
CREATED:20240814T134329Z
LAST-MODIFIED:20240821T135852Z
UID:10000655-1779181200-1779184800@eastsidepres.com
SUMMARY:Men's Bible Study
DESCRIPTION:Join us every Tuesday morning\, from 9 – 10 AM! This study is led by Mark Auffarth and initially\, we will be looking at the gospel through the lens of the book entitled: Gospel Transformation.
URL:https://eastsidepres.com/events/mens-bible-study/2026-05-19/
LOCATION:EPC Coffee Room\, 830 Garlington Road\, Greenville\, SC\, 29615\, United States
CATEGORIES:Men's Ministry
ATTACH;FMTTYPE=image/jpeg:https://eastsidepres.com/wp-content/uploads/2023/08/Monday-Night-Live.jpg
END:VEVENT
BEGIN:VEVENT
DTSTART;TZID=UTC:20260519T183000
DTEND;TZID=UTC:20260519T193000
DTSTAMP:20260423T122558
CREATED:20250326T145204Z
LAST-MODIFIED:20250326T145204Z
UID:10000962-1779215400-1779219000@eastsidepres.com
SUMMARY:Pickleball
DESCRIPTION:Our Pickle Ball group meets most Tuesday & Thursday nights\, at 6:30 PM in the church gym\, unless there is a holiday or conflicting church event. Anyone is welcome\, first-time or seasoned players. This is a great opportunity to invite neighbors or friends. Contact Grant Specia for more details\, gspecia@gmail.com.
URL:https://eastsidepres.com/events/pickleball/2026-05-19/
LOCATION:EPC Gym\, 830 Garlington Road\, Greenville\, SC\, 29615\, United States
CATEGORIES:All Church,Community
ATTACH;FMTTYPE=image/jpeg:https://eastsidepres.com/wp-content/uploads/2023/07/Pickleball-scaled.jpg
END:VEVENT
BEGIN:VEVENT
DTSTART;TZID=UTC:20260521T183000
DTEND;TZID=UTC:20260521T193000
DTSTAMP:20260423T122558
CREATED:20250326T145204Z
LAST-MODIFIED:20250326T145204Z
UID:10001220-1779388200-1779391800@eastsidepres.com
SUMMARY:Pickleball
DESCRIPTION:Our Pickle Ball group meets most Tuesday & Thursday nights\, at 6:30 PM in the church gym\, unless there is a holiday or conflicting church event. Anyone is welcome\, first-time or seasoned players. This is a great opportunity to invite neighbors or friends. Contact Grant Specia for more details\, gspecia@gmail.com.
URL:https://eastsidepres.com/events/pickleball/2026-05-21/
LOCATION:EPC Gym\, 830 Garlington Road\, Greenville\, SC\, 29615\, United States
CATEGORIES:All Church,Community
ATTACH;FMTTYPE=image/jpeg:https://eastsidepres.com/wp-content/uploads/2023/07/Pickleball-scaled.jpg
END:VEVENT
BEGIN:VEVENT
DTSTART;TZID=UTC:20260526T090000
DTEND;TZID=UTC:20260526T100000
DTSTAMP:20260423T122558
CREATED:20240814T134329Z
LAST-MODIFIED:20240821T135852Z
UID:10000656-1779786000-1779789600@eastsidepres.com
SUMMARY:Men's Bible Study
DESCRIPTION:Join us every Tuesday morning\, from 9 – 10 AM! This study is led by Mark Auffarth and initially\, we will be looking at the gospel through the lens of the book entitled: Gospel Transformation.
URL:https://eastsidepres.com/events/mens-bible-study/2026-05-26/
LOCATION:EPC Coffee Room\, 830 Garlington Road\, Greenville\, SC\, 29615\, United States
CATEGORIES:Men's Ministry
ATTACH;FMTTYPE=image/jpeg:https://eastsidepres.com/wp-content/uploads/2023/08/Monday-Night-Live.jpg
END:VEVENT
BEGIN:VEVENT
DTSTART;TZID=UTC:20260526T183000
DTEND;TZID=UTC:20260526T193000
DTSTAMP:20260423T122558
CREATED:20250326T145204Z
LAST-MODIFIED:20250326T145204Z
UID:10000963-1779820200-1779823800@eastsidepres.com
SUMMARY:Pickleball
DESCRIPTION:Our Pickle Ball group meets most Tuesday & Thursday nights\, at 6:30 PM in the church gym\, unless there is a holiday or conflicting church event. Anyone is welcome\, first-time or seasoned players. This is a great opportunity to invite neighbors or friends. Contact Grant Specia for more details\, gspecia@gmail.com.
URL:https://eastsidepres.com/events/pickleball/2026-05-26/
LOCATION:EPC Gym\, 830 Garlington Road\, Greenville\, SC\, 29615\, United States
CATEGORIES:All Church,Community
ATTACH;FMTTYPE=image/jpeg:https://eastsidepres.com/wp-content/uploads/2023/07/Pickleball-scaled.jpg
END:VEVENT
BEGIN:VEVENT
DTSTART;TZID=UTC:20260528T183000
DTEND;TZID=UTC:20260528T193000
DTSTAMP:20260423T122559
CREATED:20250326T145204Z
LAST-MODIFIED:20250326T145204Z
UID:10001221-1779993000-1779996600@eastsidepres.com
SUMMARY:Pickleball
DESCRIPTION:Our Pickle Ball group meets most Tuesday & Thursday nights\, at 6:30 PM in the church gym\, unless there is a holiday or conflicting church event. Anyone is welcome\, first-time or seasoned players. This is a great opportunity to invite neighbors or friends. Contact Grant Specia for more details\, gspecia@gmail.com.
URL:https://eastsidepres.com/events/pickleball/2026-05-28/
LOCATION:EPC Gym\, 830 Garlington Road\, Greenville\, SC\, 29615\, United States
CATEGORIES:All Church,Community
ATTACH;FMTTYPE=image/jpeg:https://eastsidepres.com/wp-content/uploads/2023/07/Pickleball-scaled.jpg
END:VEVENT
BEGIN:VEVENT
DTSTART;TZID=UTC:20260602T090000
DTEND;TZID=UTC:20260602T100000
DTSTAMP:20260423T122559
CREATED:20240814T134329Z
LAST-MODIFIED:20240821T135852Z
UID:10000657-1780390800-1780394400@eastsidepres.com
SUMMARY:Men's Bible Study
DESCRIPTION:Join us every Tuesday morning\, from 9 – 10 AM! This study is led by Mark Auffarth and initially\, we will be looking at the gospel through the lens of the book entitled: Gospel Transformation.
URL:https://eastsidepres.com/events/mens-bible-study/2026-06-02/
LOCATION:EPC Coffee Room\, 830 Garlington Road\, Greenville\, SC\, 29615\, United States
CATEGORIES:Men's Ministry
ATTACH;FMTTYPE=image/jpeg:https://eastsidepres.com/wp-content/uploads/2023/08/Monday-Night-Live.jpg
END:VEVENT
BEGIN:VEVENT
DTSTART;TZID=UTC:20260602T183000
DTEND;TZID=UTC:20260602T193000
DTSTAMP:20260423T122559
CREATED:20250326T145204Z
LAST-MODIFIED:20250326T145204Z
UID:10000964-1780425000-1780428600@eastsidepres.com
SUMMARY:Pickleball
DESCRIPTION:Our Pickle Ball group meets most Tuesday & Thursday nights\, at 6:30 PM in the church gym\, unless there is a holiday or conflicting church event. Anyone is welcome\, first-time or seasoned players. This is a great opportunity to invite neighbors or friends. Contact Grant Specia for more details\, gspecia@gmail.com.
URL:https://eastsidepres.com/events/pickleball/2026-06-02/
LOCATION:EPC Gym\, 830 Garlington Road\, Greenville\, SC\, 29615\, United States
CATEGORIES:All Church,Community
ATTACH;FMTTYPE=image/jpeg:https://eastsidepres.com/wp-content/uploads/2023/07/Pickleball-scaled.jpg
END:VEVENT
BEGIN:VEVENT
DTSTART;TZID=UTC:20260604T183000
DTEND;TZID=UTC:20260604T193000
DTSTAMP:20260423T122559
CREATED:20250326T145204Z
LAST-MODIFIED:20250326T145204Z
UID:10001222-1780597800-1780601400@eastsidepres.com
SUMMARY:Pickleball
DESCRIPTION:Our Pickle Ball group meets most Tuesday & Thursday nights\, at 6:30 PM in the church gym\, unless there is a holiday or conflicting church event. Anyone is welcome\, first-time or seasoned players. This is a great opportunity to invite neighbors or friends. Contact Grant Specia for more details\, gspecia@gmail.com.
URL:https://eastsidepres.com/events/pickleball/2026-06-04/
LOCATION:EPC Gym\, 830 Garlington Road\, Greenville\, SC\, 29615\, United States
CATEGORIES:All Church,Community
ATTACH;FMTTYPE=image/jpeg:https://eastsidepres.com/wp-content/uploads/2023/07/Pickleball-scaled.jpg
END:VEVENT
BEGIN:VEVENT
DTSTART;TZID=UTC:20260609T090000
DTEND;TZID=UTC:20260609T100000
DTSTAMP:20260423T122559
CREATED:20240814T134329Z
LAST-MODIFIED:20240821T135852Z
UID:10000658-1780995600-1780999200@eastsidepres.com
SUMMARY:Men's Bible Study
DESCRIPTION:Join us every Tuesday morning\, from 9 – 10 AM! This study is led by Mark Auffarth and initially\, we will be looking at the gospel through the lens of the book entitled: Gospel Transformation.
URL:https://eastsidepres.com/events/mens-bible-study/2026-06-09/
LOCATION:EPC Coffee Room\, 830 Garlington Road\, Greenville\, SC\, 29615\, United States
CATEGORIES:Men's Ministry
ATTACH;FMTTYPE=image/jpeg:https://eastsidepres.com/wp-content/uploads/2023/08/Monday-Night-Live.jpg
END:VEVENT
BEGIN:VEVENT
DTSTART;TZID=UTC:20260609T183000
DTEND;TZID=UTC:20260609T193000
DTSTAMP:20260423T122559
CREATED:20250326T145204Z
LAST-MODIFIED:20250326T145204Z
UID:10000965-1781029800-1781033400@eastsidepres.com
SUMMARY:Pickleball
DESCRIPTION:Our Pickle Ball group meets most Tuesday & Thursday nights\, at 6:30 PM in the church gym\, unless there is a holiday or conflicting church event. Anyone is welcome\, first-time or seasoned players. This is a great opportunity to invite neighbors or friends. Contact Grant Specia for more details\, gspecia@gmail.com.
URL:https://eastsidepres.com/events/pickleball/2026-06-09/
LOCATION:EPC Gym\, 830 Garlington Road\, Greenville\, SC\, 29615\, United States
CATEGORIES:All Church,Community
ATTACH;FMTTYPE=image/jpeg:https://eastsidepres.com/wp-content/uploads/2023/07/Pickleball-scaled.jpg
END:VEVENT
BEGIN:VEVENT
DTSTART;TZID=UTC:20260611T183000
DTEND;TZID=UTC:20260611T193000
DTSTAMP:20260423T122559
CREATED:20250326T145204Z
LAST-MODIFIED:20250326T145204Z
UID:10001223-1781202600-1781206200@eastsidepres.com
SUMMARY:Pickleball
DESCRIPTION:Our Pickle Ball group meets most Tuesday & Thursday nights\, at 6:30 PM in the church gym\, unless there is a holiday or conflicting church event. Anyone is welcome\, first-time or seasoned players. This is a great opportunity to invite neighbors or friends. Contact Grant Specia for more details\, gspecia@gmail.com.
URL:https://eastsidepres.com/events/pickleball/2026-06-11/
LOCATION:EPC Gym\, 830 Garlington Road\, Greenville\, SC\, 29615\, United States
CATEGORIES:All Church,Community
ATTACH;FMTTYPE=image/jpeg:https://eastsidepres.com/wp-content/uploads/2023/07/Pickleball-scaled.jpg
END:VEVENT
BEGIN:VEVENT
DTSTART;TZID=UTC:20260616T090000
DTEND;TZID=UTC:20260616T100000
DTSTAMP:20260423T122559
CREATED:20240814T134329Z
LAST-MODIFIED:20240821T135852Z
UID:10000659-1781600400-1781604000@eastsidepres.com
SUMMARY:Men's Bible Study
DESCRIPTION:Join us every Tuesday morning\, from 9 – 10 AM! This study is led by Mark Auffarth and initially\, we will be looking at the gospel through the lens of the book entitled: Gospel Transformation.
URL:https://eastsidepres.com/events/mens-bible-study/2026-06-16/
LOCATION:EPC Coffee Room\, 830 Garlington Road\, Greenville\, SC\, 29615\, United States
CATEGORIES:Men's Ministry
ATTACH;FMTTYPE=image/jpeg:https://eastsidepres.com/wp-content/uploads/2023/08/Monday-Night-Live.jpg
END:VEVENT
BEGIN:VEVENT
DTSTART;TZID=UTC:20260616T183000
DTEND;TZID=UTC:20260616T193000
DTSTAMP:20260423T122559
CREATED:20250326T145204Z
LAST-MODIFIED:20250326T145204Z
UID:10000966-1781634600-1781638200@eastsidepres.com
SUMMARY:Pickleball
DESCRIPTION:Our Pickle Ball group meets most Tuesday & Thursday nights\, at 6:30 PM in the church gym\, unless there is a holiday or conflicting church event. Anyone is welcome\, first-time or seasoned players. This is a great opportunity to invite neighbors or friends. Contact Grant Specia for more details\, gspecia@gmail.com.
URL:https://eastsidepres.com/events/pickleball/2026-06-16/
LOCATION:EPC Gym\, 830 Garlington Road\, Greenville\, SC\, 29615\, United States
CATEGORIES:All Church,Community
ATTACH;FMTTYPE=image/jpeg:https://eastsidepres.com/wp-content/uploads/2023/07/Pickleball-scaled.jpg
END:VEVENT
BEGIN:VEVENT
DTSTART;TZID=UTC:20260618T183000
DTEND;TZID=UTC:20260618T193000
DTSTAMP:20260423T122559
CREATED:20250326T145204Z
LAST-MODIFIED:20250326T145204Z
UID:10001224-1781807400-1781811000@eastsidepres.com
SUMMARY:Pickleball
DESCRIPTION:Our Pickle Ball group meets most Tuesday & Thursday nights\, at 6:30 PM in the church gym\, unless there is a holiday or conflicting church event. Anyone is welcome\, first-time or seasoned players. This is a great opportunity to invite neighbors or friends. Contact Grant Specia for more details\, gspecia@gmail.com.
URL:https://eastsidepres.com/events/pickleball/2026-06-18/
LOCATION:EPC Gym\, 830 Garlington Road\, Greenville\, SC\, 29615\, United States
CATEGORIES:All Church,Community
ATTACH;FMTTYPE=image/jpeg:https://eastsidepres.com/wp-content/uploads/2023/07/Pickleball-scaled.jpg
END:VEVENT
BEGIN:VEVENT
DTSTART;TZID=UTC:20260623T090000
DTEND;TZID=UTC:20260623T100000
DTSTAMP:20260423T122559
CREATED:20240814T134329Z
LAST-MODIFIED:20240821T135852Z
UID:10000660-1782205200-1782208800@eastsidepres.com
SUMMARY:Men's Bible Study
DESCRIPTION:Join us every Tuesday morning\, from 9 – 10 AM! This study is led by Mark Auffarth and initially\, we will be looking at the gospel through the lens of the book entitled: Gospel Transformation.
URL:https://eastsidepres.com/events/mens-bible-study/2026-06-23/
LOCATION:EPC Coffee Room\, 830 Garlington Road\, Greenville\, SC\, 29615\, United States
CATEGORIES:Men's Ministry
ATTACH;FMTTYPE=image/jpeg:https://eastsidepres.com/wp-content/uploads/2023/08/Monday-Night-Live.jpg
END:VEVENT
BEGIN:VEVENT
DTSTART;TZID=UTC:20260623T183000
DTEND;TZID=UTC:20260623T193000
DTSTAMP:20260423T122559
CREATED:20250326T145204Z
LAST-MODIFIED:20250326T145204Z
UID:10000967-1782239400-1782243000@eastsidepres.com
SUMMARY:Pickleball
DESCRIPTION:Our Pickle Ball group meets most Tuesday & Thursday nights\, at 6:30 PM in the church gym\, unless there is a holiday or conflicting church event. Anyone is welcome\, first-time or seasoned players. This is a great opportunity to invite neighbors or friends. Contact Grant Specia for more details\, gspecia@gmail.com.
URL:https://eastsidepres.com/events/pickleball/2026-06-23/
LOCATION:EPC Gym\, 830 Garlington Road\, Greenville\, SC\, 29615\, United States
CATEGORIES:All Church,Community
ATTACH;FMTTYPE=image/jpeg:https://eastsidepres.com/wp-content/uploads/2023/07/Pickleball-scaled.jpg
END:VEVENT
BEGIN:VEVENT
DTSTART;TZID=UTC:20260625T183000
DTEND;TZID=UTC:20260625T193000
DTSTAMP:20260423T122559
CREATED:20250326T145204Z
LAST-MODIFIED:20250326T145204Z
UID:10001225-1782412200-1782415800@eastsidepres.com
SUMMARY:Pickleball
DESCRIPTION:Our Pickle Ball group meets most Tuesday & Thursday nights\, at 6:30 PM in the church gym\, unless there is a holiday or conflicting church event. Anyone is welcome\, first-time or seasoned players. This is a great opportunity to invite neighbors or friends. Contact Grant Specia for more details\, gspecia@gmail.com.
URL:https://eastsidepres.com/events/pickleball/2026-06-25/
LOCATION:EPC Gym\, 830 Garlington Road\, Greenville\, SC\, 29615\, United States
CATEGORIES:All Church,Community
ATTACH;FMTTYPE=image/jpeg:https://eastsidepres.com/wp-content/uploads/2023/07/Pickleball-scaled.jpg
END:VEVENT
BEGIN:VEVENT
DTSTART;TZID=UTC:20260630T090000
DTEND;TZID=UTC:20260630T100000
DTSTAMP:20260423T122559
CREATED:20240814T134329Z
LAST-MODIFIED:20240821T135852Z
UID:10000661-1782810000-1782813600@eastsidepres.com
SUMMARY:Men's Bible Study
DESCRIPTION:Join us every Tuesday morning\, from 9 – 10 AM! This study is led by Mark Auffarth and initially\, we will be looking at the gospel through the lens of the book entitled: Gospel Transformation.
URL:https://eastsidepres.com/events/mens-bible-study/2026-06-30/
LOCATION:EPC Coffee Room\, 830 Garlington Road\, Greenville\, SC\, 29615\, United States
CATEGORIES:Men's Ministry
ATTACH;FMTTYPE=image/jpeg:https://eastsidepres.com/wp-content/uploads/2023/08/Monday-Night-Live.jpg
END:VEVENT
BEGIN:VEVENT
DTSTART;TZID=UTC:20260630T183000
DTEND;TZID=UTC:20260630T193000
DTSTAMP:20260423T122559
CREATED:20250326T145204Z
LAST-MODIFIED:20250326T145204Z
UID:10000968-1782844200-1782847800@eastsidepres.com
SUMMARY:Pickleball
DESCRIPTION:Our Pickle Ball group meets most Tuesday & Thursday nights\, at 6:30 PM in the church gym\, unless there is a holiday or conflicting church event. Anyone is welcome\, first-time or seasoned players. This is a great opportunity to invite neighbors or friends. Contact Grant Specia for more details\, gspecia@gmail.com.
URL:https://eastsidepres.com/events/pickleball/2026-06-30/
LOCATION:EPC Gym\, 830 Garlington Road\, Greenville\, SC\, 29615\, United States
CATEGORIES:All Church,Community
ATTACH;FMTTYPE=image/jpeg:https://eastsidepres.com/wp-content/uploads/2023/07/Pickleball-scaled.jpg
END:VEVENT
END:VCALENDAR